BEGIN:VCALENDAR
PRODID:-//eluceo/ical//2.0/EN
VERSION:2.0
CALSCALE:GREGORIAN
BEGIN:VEVENT
UID:b58e55ff67b4871a4debfcb8c0444067
DTSTAMP:20260420T074510Z
SUMMARY:Surgery Workshop | Optimal surgical results: titanised meshes 
DESCRIPTION:Speaker(s):Prof. Dr. med. Marc Thill\, Chief Physician Gynecolo
 gy and Obstetrics\, Agaplesion Markus Krankenhaus\, Frankfurt\n\nFlyer of 
 the event: https://www.pfmmedical.com/fileadmin/redaktion_pfm_de/dokumente
 /marketingmaterial/surgery/events/workshops/Thill_2026_EN_FC.pdf
URL:https://www.pfmmedical.com/events/workshop-391/?mtm_campaign=events&mtm
 _source=ical&mtm_medium=calendar
DTSTART;VALUE=DATE:20260608
DTEND;VALUE=DATE:20260610
LOCATION:Frankfurt/Main\, Germany
END:VEVENT
END:VCALENDAR
